BEGIN:VCALENDAR
VERSION:2.0
PRODID:-//My House Design Build - ECPv6.15.17//NONSGML v1.0//EN
CALSCALE:GREGORIAN
METHOD:PUBLISH
X-WR-CALNAME:My House Design Build
X-ORIGINAL-URL:https://www.myhousedesignbuild.com
X-WR-CALDESC:Events for My House Design Build
REFRESH-INTERVAL;VALUE=DURATION:PT1H
X-Robots-Tag:noindex
X-PUBLISHED-TTL:PT1H
BEGIN:VTIMEZONE
TZID:America/Vancouver
BEGIN:DAYLIGHT
TZOFFSETFROM:-0800
TZOFFSETTO:-0700
TZNAME:PDT
DTSTART:20250309T100000
END:DAYLIGHT
BEGIN:STANDARD
TZOFFSETFROM:-0700
TZOFFSETTO:-0800
TZNAME:PST
DTSTART:20251102T090000
END:STANDARD
BEGIN:DAYLIGHT
TZOFFSETFROM:-0800
TZOFFSETTO:-0700
TZNAME:PDT
DTSTART:20260308T100000
END:DAYLIGHT
BEGIN:STANDARD
TZOFFSETFROM:-0700
TZOFFSETTO:-0800
TZNAME:PST
DTSTART:20261101T090000
END:STANDARD
BEGIN:DAYLIGHT
TZOFFSETFROM:-0800
TZOFFSETTO:-0700
TZNAME:PDT
DTSTART:20270314T100000
END:DAYLIGHT
BEGIN:STANDARD
TZOFFSETFROM:-0700
TZOFFSETTO:-0800
TZNAME:PST
DTSTART:20271107T090000
END:STANDARD
END:VTIMEZONE
BEGIN:VEVENT
DTSTART;TZID=America/Vancouver:20260411T100000
DTEND;TZID=America/Vancouver:20260411T150000
DTSTAMP:20260420T044422
CREATED:20251210T222032Z
LAST-MODIFIED:20251210T222034Z
UID:28559-1775901600-1775919600@www.myhousedesignbuild.com
SUMMARY:Tour Our Parade of Renovated Homes
DESCRIPTION:You’re invited to an exclusive parade of homes! Tour 3 projects by BC’s most awarded renovator builder\, My House Design/Build. \n\n\n\nAre you considering a renovation or new home project? Take the tour through 2 completed renovations and 1 under construction\, and one exterior renovation. Meet our team of Project Managers & Designers\, see our craftsmanship up close\, and ask us questions about your project. \n\n\n\nAll homes are located in the Greater Vancouver area \n\n\n\nWe hope to see you there! \n\n\n\nAddresses will be released 24 hours prior to the event date. \n\n\n\nPhoto ID will be required at the door and must correspond with the name(s) registered through Eventbrite. Please keep this in mind when registering multiple guests*
URL:https://www.myhousedesignbuild.com/event/tour-our-parade-of-renovated-homes-3-2/
LOCATION:British Columbia
ATTACH;FMTTYPE=image/jpeg:https://www.myhousedesignbuild.com/wp-content/uploads/2025/12/MH-Parade-24-Eventbrite-Headers-2.jpg
END:VEVENT
END:VCALENDAR