BEGIN:VCALENDAR
VERSION:2.0
PRODID:-//My House Design Build - ECPv6.15.17//NONSGML v1.0//EN
CALSCALE:GREGORIAN
METHOD:PUBLISH
X-WR-CALNAME:My House Design Build
X-ORIGINAL-URL:https://www.myhousedesignbuild.com
X-WR-CALDESC:Events for My House Design Build
REFRESH-INTERVAL;VALUE=DURATION:PT1H
X-Robots-Tag:noindex
X-PUBLISHED-TTL:PT1H
BEGIN:VTIMEZONE
TZID:America/Vancouver
BEGIN:DAYLIGHT
TZOFFSETFROM:-0800
TZOFFSETTO:-0700
TZNAME:PDT
DTSTART:20250309T100000
END:DAYLIGHT
BEGIN:STANDARD
TZOFFSETFROM:-0700
TZOFFSETTO:-0800
TZNAME:PST
DTSTART:20251102T090000
END:STANDARD
BEGIN:DAYLIGHT
TZOFFSETFROM:-0800
TZOFFSETTO:-0700
TZNAME:PDT
DTSTART:20260308T100000
END:DAYLIGHT
BEGIN:STANDARD
TZOFFSETFROM:-0700
TZOFFSETTO:-0800
TZNAME:PST
DTSTART:20261101T090000
END:STANDARD
BEGIN:DAYLIGHT
TZOFFSETFROM:-0800
TZOFFSETTO:-0700
TZNAME:PDT
DTSTART:20270314T100000
END:DAYLIGHT
BEGIN:STANDARD
TZOFFSETFROM:-0700
TZOFFSETTO:-0800
TZNAME:PST
DTSTART:20271107T090000
END:STANDARD
END:VTIMEZONE
BEGIN:VEVENT
DTSTART;TZID=America/Vancouver:20260521T190000
DTEND;TZID=America/Vancouver:20260521T203000
DTSTAMP:20260420T032100
CREATED:20251211T235726Z
LAST-MODIFIED:20251211T235740Z
UID:28590-1779390000-1779395400@www.myhousedesignbuild.com
SUMMARY:Webinar: Navigating Insurance Claim Restorations: What Homeowners Need to Know (Flood\, Fire & Wind)
DESCRIPTION:Understand the Process\, Protect Your Rights\, and Restore Your Home with Confidence\nExperiencing a flood\, fire\, or wind event is overwhelming — and dealing with insurance adds another layer of stress.This webinar helps homeowners understand the restoration process\, timelines\, expectations\, and how to advocate for a fair and thorough repair. \n\nWhat You’ll Learn\nHow Insurance Claims Really Work\n\n\nYour rights as a policyholder \n\n\nWhat’s covered (and what isn’t) \n\n\nHow insurers choose contractors \n\n\nFlood\, Fire & Wind Damage — What to Expect\n\n\nEmergency mitigation \n\n\nStructural & mechanical assessments \n\n\nRestoration vs. replacement decisions \n\n\nAvoiding Common Restoration Pitfalls\n\n\nIncomplete cleaning or drywall repairs \n\n\nMold risks after floods \n\n\nSmoke odour remediation failures \n\n\n\nWhy Homeowners Need This Information\nInsurance restorations can be confusing — and mistakes can have long-term consequences.This webinar empowers homeowners to ensure their home is restored properly and safely. \n\nWho Should Attend\n\n\nAnyone dealing with an active insurance claim \n\n\nHomeowners wanting to be prepared before an emergency \n\n\nRealtors\, landlords\, and strata councils \n\n\n\n\n\nRegister
URL:https://www.myhousedesignbuild.com/event/insurance-claim-restorations-webinar-2-2/
LOCATION:British Columbia
ATTACH;FMTTYPE=image/png:https://www.myhousedesignbuild.com/wp-content/uploads/2025/12/Insurance-Webinar.png
END:VEVENT
END:VCALENDAR