BEGIN:VCALENDAR
VERSION:2.0
PRODID:-//My House Design Build - ECPv6.15.17//NONSGML v1.0//EN
CALSCALE:GREGORIAN
METHOD:PUBLISH
X-ORIGINAL-URL:https://www.myhousedesignbuild.com
X-WR-CALDESC:Events for My House Design Build
REFRESH-INTERVAL;VALUE=DURATION:PT1H
X-Robots-Tag:noindex
X-PUBLISHED-TTL:PT1H
BEGIN:VTIMEZONE
TZID:America/Vancouver
BEGIN:DAYLIGHT
TZOFFSETFROM:-0800
TZOFFSETTO:-0700
TZNAME:PDT
DTSTART:20250309T100000
END:DAYLIGHT
BEGIN:STANDARD
TZOFFSETFROM:-0700
TZOFFSETTO:-0800
TZNAME:PST
DTSTART:20251102T090000
END:STANDARD
BEGIN:DAYLIGHT
TZOFFSETFROM:-0800
TZOFFSETTO:-0700
TZNAME:PDT
DTSTART:20260308T100000
END:DAYLIGHT
BEGIN:STANDARD
TZOFFSETFROM:-0700
TZOFFSETTO:-0800
TZNAME:PST
DTSTART:20261101T090000
END:STANDARD
BEGIN:DAYLIGHT
TZOFFSETFROM:-0800
TZOFFSETTO:-0700
TZNAME:PDT
DTSTART:20270314T100000
END:DAYLIGHT
BEGIN:STANDARD
TZOFFSETFROM:-0700
TZOFFSETTO:-0800
TZNAME:PST
DTSTART:20271107T090000
END:STANDARD
END:VTIMEZONE
BEGIN:VEVENT
DTSTART;TZID=America/Vancouver:20260611T190000
DTEND;TZID=America/Vancouver:20260611T203000
DTSTAMP:20260424T014223
CREATED:20251215T195856Z
LAST-MODIFIED:20251215T195915Z
UID:28604-1781204400-1781209800@www.myhousedesignbuild.com
SUMMARY:Webinar: Preserving Character\, Upgrading Comfort: A Guide to Heritage Renovations
DESCRIPTION:Understand the Process\, preserving heritage homes\, and making the most of your investment\nHeritage and character homes require a thoughtful approach — modern comfort\, upgraded systems\, and increased efficiency\, all while protecting what makes the home special.This webinar helps you understand how to balance history with modern living. \nWhat You’ll Learn\nUnderstanding Heritage Designation Levels\n\n\nCharacter vs. heritage-registered vs. heritage-protected \n\n\nWhat changes are allowed \n\n\nHow approvals differ by municipality \n\n\nPreservation + Modernization\n\n\nRestoring original details \n\n\nUpgrading for safety\, comfort & performance \n\n\nRebuilding with historically appropriate materials \n\n\nStructural & Mechanical Considerations\n\n\nElectrical\, plumbing & foundation upgrades \n\n\nInsulation solutions for older homes \n\n\nMoisture management & building envelope improvements \n\n\nBudgeting & Timelines\n\n\nWhy heritage projects differ \n\n\nWhere costs typically land \n\n\nApproval & permit expectations \n\n\nDesigning for Today’s Living\n\n\nSpace planning options \n\n\nKitchen & bathroom upgrades \n\n\nAdding suites or additions while maintaining character \n\n\nWho Should Attend\n\n\nOwners of character or heritage homes \n\n\nAnyone planning restoration + modernization \n\n\nHomebuyers considering a heritage purchase \n\n\n\n\n\nRegister
URL:https://www.myhousedesignbuild.com/event/renovating-heritage-character-webinar-2-2/
LOCATION:British Columbia
ATTACH;FMTTYPE=image/jpeg:https://www.myhousedesignbuild.com/wp-content/uploads/2025/12/Character-Homes-Webinar.jpg
END:VEVENT
END:VCALENDAR