BEGIN:VCALENDAR
VERSION:2.0
PRODID:-//My House Design Build - ECPv6.15.17//NONSGML v1.0//EN
CALSCALE:GREGORIAN
METHOD:PUBLISH
X-ORIGINAL-URL:https://www.myhousedesignbuild.com
X-WR-CALDESC:Events for My House Design Build
REFRESH-INTERVAL;VALUE=DURATION:PT1H
X-Robots-Tag:noindex
X-PUBLISHED-TTL:PT1H
BEGIN:VTIMEZONE
TZID:America/Vancouver
BEGIN:DAYLIGHT
TZOFFSETFROM:-0800
TZOFFSETTO:-0700
TZNAME:PDT
DTSTART:20250309T100000
END:DAYLIGHT
BEGIN:STANDARD
TZOFFSETFROM:-0700
TZOFFSETTO:-0800
TZNAME:PST
DTSTART:20251102T090000
END:STANDARD
BEGIN:DAYLIGHT
TZOFFSETFROM:-0800
TZOFFSETTO:-0700
TZNAME:PDT
DTSTART:20260308T100000
END:DAYLIGHT
BEGIN:STANDARD
TZOFFSETFROM:-0700
TZOFFSETTO:-0800
TZNAME:PST
DTSTART:20261101T090000
END:STANDARD
BEGIN:DAYLIGHT
TZOFFSETFROM:-0800
TZOFFSETTO:-0700
TZNAME:PDT
DTSTART:20270314T100000
END:DAYLIGHT
BEGIN:STANDARD
TZOFFSETFROM:-0700
TZOFFSETTO:-0800
TZNAME:PST
DTSTART:20271107T090000
END:STANDARD
END:VTIMEZONE
BEGIN:VEVENT
DTSTART;TZID=America/Vancouver:20260618T190000
DTEND;TZID=America/Vancouver:20260618T203000
DTSTAMP:20260424T034846
CREATED:20251215T200742Z
LAST-MODIFIED:20251215T200743Z
UID:28609-1781809200-1781814600@www.myhousedesignbuild.com
SUMMARY:Webinar: Healthy & Energy-Efficient Homes: A Guide to High-Performance Renovations and Custom Builds
DESCRIPTION:Understand the Process\, Tax incentives available to you\, and making the most of your investment\nIf you’re planning a deep renovation or building new\, now is the perfect time to improve your home’s health\, comfort\, and efficiency.This webinar explains what a high-performance home is\, why it matters\, and how to achieve it. \nWhat You’ll Learn\nHigh-Performance Home Basics\n\n\nWhat makes a home healthy & energy-efficient \n\n\nIndoor air quality essentials \n\n\nBuilding science fundamentals \n\n\nEnergy Upgrades That Matter\n\n\nHeat pumps & mechanical systems \n\n\nInsulation & air-sealing \n\n\nWindows\, doors & building envelope strategies \n\n\nDesigning for Comfort\n\n\nTemperature consistency \n\n\nNoise reduction \n\n\nNatural light optimization \n\n\nRebates & Incentives\n\n\nAvailable programs \n\n\nHow to qualify \n\n\nStacking rebates for maximum benefit \n\n\nWho Should Attend\n\n\nHomeowners renovating or building soon \n\n\nAnyone wanting a healthier\, more efficient home \n\n\nThose exploring rebates or long-term savings \n\n\n\n\n\nRegister
URL:https://www.myhousedesignbuild.com/event/renovating-healthy-efficient-webinar-2-2/
LOCATION:British Columbia
ATTACH;FMTTYPE=image/jpeg:https://www.myhousedesignbuild.com/wp-content/uploads/2025/12/HEE-Webinar.jpg
END:VEVENT
END:VCALENDAR