BEGIN:VCALENDAR
VERSION:2.0
PRODID:-//My House Design Build - ECPv6.15.17//NONSGML v1.0//EN
CALSCALE:GREGORIAN
METHOD:PUBLISH
X-ORIGINAL-URL:https://www.myhousedesignbuild.com
X-WR-CALDESC:Events for My House Design Build
REFRESH-INTERVAL;VALUE=DURATION:PT1H
X-Robots-Tag:noindex
X-PUBLISHED-TTL:PT1H
BEGIN:VTIMEZONE
TZID:America/Vancouver
BEGIN:DAYLIGHT
TZOFFSETFROM:-0800
TZOFFSETTO:-0700
TZNAME:PDT
DTSTART:20250309T100000
END:DAYLIGHT
BEGIN:STANDARD
TZOFFSETFROM:-0700
TZOFFSETTO:-0800
TZNAME:PST
DTSTART:20251102T090000
END:STANDARD
BEGIN:DAYLIGHT
TZOFFSETFROM:-0800
TZOFFSETTO:-0700
TZNAME:PDT
DTSTART:20260308T100000
END:DAYLIGHT
BEGIN:STANDARD
TZOFFSETFROM:-0700
TZOFFSETTO:-0800
TZNAME:PST
DTSTART:20261101T090000
END:STANDARD
BEGIN:DAYLIGHT
TZOFFSETFROM:-0800
TZOFFSETTO:-0700
TZNAME:PDT
DTSTART:20270314T100000
END:DAYLIGHT
BEGIN:STANDARD
TZOFFSETFROM:-0700
TZOFFSETTO:-0800
TZNAME:PST
DTSTART:20271107T090000
END:STANDARD
END:VTIMEZONE
BEGIN:VEVENT
DTSTART;TZID=America/Vancouver:20260702T190000
DTEND;TZID=America/Vancouver:20260702T203000
DTSTAMP:20260422T131004
CREATED:20251211T232425Z
LAST-MODIFIED:20260113T175921Z
UID:28579-1783018800-1783024200@www.myhousedesignbuild.com
SUMMARY:Webinar: Home Improvements Room by Room: How to take advantage of rebates and tax incentives
DESCRIPTION:Stop Leaving Money on the Table — Learn Which Programs You Qualify For\nRenovations can be expensive — but many homeowners don’t realize how much financial support is available for energy upgrades\, accessibility improvements\, heat pumps\, windows\, doors\, insulation\, and more. \nThis webinar helps you understand what rebates exist\, how to qualify\, and how to maximize your return. \n\nWhat You’ll Learn\nAvailable Federal\, Provincial & Municipal Programs\n\n\nEnergy-efficiency rebates \n\n\nHeat pump & HVAC incentives \n\n\nAccessibility & aging-in-place grants \n\n\nHome renovation tax credits \n\n\nRenovation Options Room by Room \n\n\nRefresh vs Reconfigurations \n\n\nHow to make your space work for you \n\n\nWorking with Design + Build  \n\n\nHow Contractors Support the Process\n\n\nRequired documentation \n\n\nEnergy assessments \n\n\nCoordination with energy advisors \n\n\n\nWhy Understanding Rebates Matters\nRebates can offset thousands of dollars in renovation costs — if homeowners plan their upgrades correctly.This webinar ensures you aren’t missing out on money you’re legally entitled to receive. \n\nWho Should Attend\n\n\nHomeowners renovating in the next 0–24 months \n\n\nAnyone interested in energy-efficient upgrades \n\n\nSeniors or caregivers looking into accessibility grants \n\n\n\n\n\nRegister
URL:https://www.myhousedesignbuild.com/event/home-improvements-renovations-webinar-7-2-2-2-2-2-2-2-2-2-2/
LOCATION:British Columbia
ATTACH;FMTTYPE=image/png:https://www.myhousedesignbuild.com/wp-content/uploads/2025/12/Rebates-Tax-Incentives-Webinar.png
END:VEVENT
BEGIN:VEVENT
DTSTART;TZID=America/Vancouver:20260709T190000
DTEND;TZID=America/Vancouver:20260709T203000
DTSTAMP:20260422T131004
CREATED:20251211T235051Z
LAST-MODIFIED:20251211T235052Z
UID:28585-1783623600-1783629000@www.myhousedesignbuild.com
SUMMARY:Webinar: Kitchen & Bathroom Renovations 101: What Homeowners Need to Know Before They Start
DESCRIPTION:Plan Your Renovation With Confidence — Avoid Common Mistakes & Budget Surprises\nKitchens and bathrooms are the most impactful — and most complicated — spaces to renovate.This webinar helps homeowners understand the process\, timelines\, and decisions needed to create a successful result. \n\nWhat You’ll Learn\nDesign Planning Essentials\n\n\nLayout optimization \n\n\nStorage solutions \n\n\nMaterial and fixture selection \n\n\nBudgeting & Cost Breakdown\n\n\nTypical investment ranges \n\n\nWhere to spend vs. where to save \n\n\nUnexpected costs to prepare for \n\n\nRenovation Timelines\n\n\nPre-construction planning \n\n\nPermit considerations \n\n\nConstruction phases \n\n\nKitchen & Bath Trends That Matter\n\n\nDurable finishes \n\n\nAging-in-place features \n\n\nSmart technology options \n\n\n\nWhy These Rooms Matter\nKitchens and bathrooms are the most used — and most valuable — areas of the home.Getting them right increases comfort\, functionality\, and long-term resale value. \n\nWho Should Attend\n\n\nHomeowners planning a reno in the next year \n\n\nFirst-time renovators \n\n\nAnyone frustrated by their current kitchen or bathroom layout \n\n\n\n\n\nRegister
URL:https://www.myhousedesignbuild.com/event/home-improvements-renovations-webinar-3-2-3-2-3-2-2-2-2/
LOCATION:British Columbia
ATTACH;FMTTYPE=image/png:https://www.myhousedesignbuild.com/wp-content/uploads/2025/12/Kitchen-Bath-Webinar.png
END:VEVENT
BEGIN:VEVENT
DTSTART;TZID=America/Vancouver:20260716T190000
DTEND;TZID=America/Vancouver:20260716T203000
DTSTAMP:20260422T131004
CREATED:20251212T000037Z
LAST-MODIFIED:20251212T000055Z
UID:28591-1784228400-1784233800@www.myhousedesignbuild.com
SUMMARY:Webinar: Navigating Insurance Claim Restorations: What Homeowners Need to Know (Flood\, Fire & Wind)
DESCRIPTION:Understand the Process\, Protect Your Rights\, and Restore Your Home with Confidence\nExperiencing a flood\, fire\, or wind event is overwhelming — and dealing with insurance adds another layer of stress.This webinar helps homeowners understand the restoration process\, timelines\, expectations\, and how to advocate for a fair and thorough repair. \n\nWhat You’ll Learn\nHow Insurance Claims Really Work\n\n\nYour rights as a policyholder \n\n\nWhat’s covered (and what isn’t) \n\n\nHow insurers choose contractors \n\n\nFlood\, Fire & Wind Damage — What to Expect\n\n\nEmergency mitigation \n\n\nStructural & mechanical assessments \n\n\nRestoration vs. replacement decisions \n\n\nAvoiding Common Restoration Pitfalls\n\n\nIncomplete cleaning or drywall repairs \n\n\nMold risks after floods \n\n\nSmoke odour remediation failures \n\n\n\nWhy Homeowners Need This Information\nInsurance restorations can be confusing — and mistakes can have long-term consequences.This webinar empowers homeowners to ensure their home is restored properly and safely. \n\nWho Should Attend\n\n\nAnyone dealing with an active insurance claim \n\n\nHomeowners wanting to be prepared before an emergency \n\n\nRealtors\, landlords\, and strata councils \n\n\n\n\n\nRegister
URL:https://www.myhousedesignbuild.com/event/insurance-claim-restorations-webinar-2-2-2/
LOCATION:British Columbia
ATTACH;FMTTYPE=image/png:https://www.myhousedesignbuild.com/wp-content/uploads/2025/12/Insurance-Webinar.png
END:VEVENT
BEGIN:VEVENT
DTSTART;TZID=America/Vancouver:20260723T190000
DTEND;TZID=America/Vancouver:20260723T203000
DTSTAMP:20260422T131004
CREATED:20251215T194144Z
LAST-MODIFIED:20251215T194154Z
UID:28595-1784833200-1784838600@www.myhousedesignbuild.com
SUMMARY:Webinar: Property Development for Custom Homes: Laneway Houses\, Duplexes + Multiplexes: A Complete Guide
DESCRIPTION:Understand the Process\, know your options\, and capitalizing on your investment\n\nDeveloping property in the Lower Mainland has incredible potential — but it’s also complex.Whether you’re building a custom home\, adding a laneway\, or exploring multiplex opportunities\, this webinar walks you through the design\, zoning\, and permitting steps required to move forward confidently. \nWhat You’ll Learn\nUnderstanding Zoning & Regulations\n\n\nWhat’s allowed on your lot \n\n\nMultiplex & laneway rules \n\n\nSetbacks\, density\, and height limits \n\n\nFeasibility & Site Planning\n\n\nHow to evaluate your property \n\n\nDetermining buildable area \n\n\nUtility\, drainage & access considerations \n\n\nDesign + Development Process\n\n\nWorking with architects & designers \n\n\nTailoring layouts for families\, rentals\, or resale \n\n\nMaximizing value per square foot \n\n\n Project Timelines\n\n\nPermit timelines & bottlenecks \n\n\nConstruction phases from start to finish \n\n\nInvestment & Long-Term Value\n\n\nRental opportunities & ROI \n\n\nAdded resale value \n\n\nKey features buyers and tenants want \n\n\nWho Should Attend\n\n\nHomeowners considering redevelopment \n\n\nInvestors exploring rental or multiplex options \n\n\nAnyone curious about laneways\, duplexes\, or new-build custom homes \n\n\n\n\n\nRegister
URL:https://www.myhousedesignbuild.com/event/property-development-multiplex-duplex-webinar-2-2-3/
LOCATION:British Columbia
ATTACH;FMTTYPE=image/jpeg:https://www.myhousedesignbuild.com/wp-content/uploads/2025/12/Property-Development-Webinar.jpg
END:VEVENT
BEGIN:VEVENT
DTSTART;TZID=America/Vancouver:20260730T190000
DTEND;TZID=America/Vancouver:20260730T203000
DTSTAMP:20260422T131004
CREATED:20251215T195351Z
LAST-MODIFIED:20251215T195417Z
UID:28601-1785438000-1785443400@www.myhousedesignbuild.com
SUMMARY:Webinar: Renovating Your Condo or Townhouse: What to Know When Working With Strata
DESCRIPTION:Understand the Process\, Working well with strata\, and making the most of your investment\n\nStrata renovations come with unique rules\, approvals\, and limitations.This webinar guides you through what’s possible\, what’s not\, and how to avoid common strata roadblocks. \nWhat You’ll Learn\nStrata Bylaws & Approvals\n\n\nWhat requires approval vs. what doesn’t \n\n\nHow to submit a successful renovation request \n\n\nNavigating renovation restrictions \n\n\nDesign & Layout Possibilities\n\n\nWhat can be moved or opened up \n\n\nPlumbing and electrical limitations \n\n\nSmart ways to improve small spaces \n\n\nBudgeting for Condo + Townhouse Projects\n\n\nFactors that increase or decrease investment \n\n\nHidden elements to plan for \n\n\nRenovation Timelines\n\n\nPre-approval & strata communication \n\n\nPermit requirements \n\n\nConstruction expectations in multi-family buildings \n\n\nStrata-Friendly Design Solutions\n\n\nNoise-reducing materials \n\n\nDurable finishes \n\n\nStorage + space-maximizing strategies \n\n\nWho Should Attend\n\n\nCondo or townhouse owners planning upgrades \n\n\nAnyone frustrated by layout limitations \n\n\nFirst-time renovators navigating strata for the first time \n\n\n\n\n\nRegister
URL:https://www.myhousedesignbuild.com/event/renovating-condo-townhouse-webinar-2-2-2/
LOCATION:British Columbia
ATTACH;FMTTYPE=image/jpeg:https://www.myhousedesignbuild.com/wp-content/uploads/2025/12/Condon-Townhouse-Webinar.jpg
END:VEVENT
END:VCALENDAR